Workbook

Sheet Rekapitulace stavby
A1: Export Komplet | BA1: 2.0 | BT1: False | BU1: False | BV1: {32e88ad2-4ff3-4476-be59-d619874beaf8}
AR2: >> skryté sloupce << | BS2: 0,01 | BT2: 21
BS4: 0,01 | BT4: 15
D7: Ocenění prací a dodávek
D10: ZL 01 - ISO nosníky ocelové kce pro přerušení tepelného mostu | AS10: v --- níže se nacházejí doplnkové a pomocné údaje k sestavám --- v | BS10: 0,001
D12: Kód: | K12: ZL 01 | BS12: 0,01
D14: Stavba: | K14: Nástavba jednoho a rekonstrukce dvou podlaží polikliniky Kbely | BS14: 0,01
D15: KSO: | AK15: CC-CZ: | BS15: 0,01
D16: Místo: | K16: Železnobrodská Praha 9 Kbely | AK16: Datum: | AN16: 44258 | BS16: 0,01
BS17: 0,01
D18: Zadavatel: | K18: Městská část Praha 9 - Kbely | AK18: IČ: 70856508 | BS18: 0,01
BS19: 0,01
BS20: 0,01
D21: Zhotovitel: | K21: ACG Real s.r.o | AK21: IČ: 27094359 | BS21: 0,01
BS22: 0,01
BS23: False
D24: Projektant: | K24: ing. Slavíček | BS24: False
BS25: True
BS26: 0,01
BS27: True
D29: Popis prací : | K29: V rámci zadání položkového VV ocenění zakázky došlo k chybnému uvedení počtu požadovaných ISO nosníků u OK kce pro bezpodmínečné zajištění přerušení tepelného mostu skrze OK kci . Dle zadání 13 ks , skutečnost 28 ks - je tedy požadováno docenění 15 Ks prvků za stanovenou j.c. dle ocenění VV. Navíc byly přidány Termoizolační prvky - 22 ks. K navýšení došlo kvůli změnám v dílenské dokumentaci nosné konstrukce 3. NP a střechy. Původně tesařské konstrukce byly nahrazeny ocelovými. Zvýšený počet prvků typu Isokorb nahrazuje obalení ocelových nosníků, které přečnívají přes líc tepelné izolace fasády tepelnou izolací. Toto opatření má zabránit vzniku tepelných mostů a následně kondenzaci vody v konstrukci. Prvky Isokorb jsou dvojí velikosti. K navýšení došlo u prvků menší velikosti. Jde o upřesnění technického řešení s pohledem na provedení stavby.
D32: Cena bez DPH | AK32: =ROUND(AG98,2) -> 112420
L34: Sazba daně | W34: Základ daně | AK34: Výše daně
D35: DPH | F35: základní | L35: 0.21 | W35: =AG98 -> 112420 | AK35: =W35*21% -> 23608.2
F36: snížená | L36: 0.15 | W36: =ROUND(BA98, 2) -> 0 | AK36: =ROUND(AW98, 2) -> 0
F37: zákl. přenesená | L37: 0.21 | W37: =ROUND(BB98, 2) -> 0 | AK37: 0
F38: sníž. přenesená | L38: 0.15 | W38: =ROUND(BC98, 2) -> 0 | AK38: 0
F39: nulová | L39: 0 | W39: =ROUND(BD98, 2) -> 0 | AK39: 0
D41: Cena s DPH | T41: v | X41: CZK | AK41: =SUM(AK32:AK39) -> 136028.2
D48: Projektant | AH48: Zpracovatel
D59: Datum a podpis: | V59: Razítko | AH59: Datum a podpis: | AM59: Razítko
D63: Objednavatel | AH63: Zhotovitel
D74: Datum a podpis: | V74: Razítko | AH74: Datum a podpis: | AM74: Razítko
C84: REKAPITULACE OBJEKTŮ STAVBY A SOUPISŮ PRACÍ
C86: Kód: | L86: =K12 -> ZL 01
C87: Stavba: | L87: =K14 -> Nástavba jednoho a rekonstrukce dvou podlaží polikliniky Kbely
C89: Místo: | L89: =IF(K16="","",K16) -> Železnobrodská Praha 9 Kbely | AI89: Datum: | AM89: =AN16 -> 44258
C91: Zadavatel: | H91: Městská část Praha 9 - Kbely | AI91: Projektant: ing. Slavíček | AM91: =IF(E25="","",E25) | AS91: Informatívní údaje z listů zakázek
C92: Zhotovitel: | H92: ACG Real s.r.o | AI92: Zpracovatel: ACG Real s.r.o | AM92: =IF(E27="","",E27)
G94: Z toho přípočtová částka | U94: =AG98 -> 112420 | AE94: Z toho odpočtová částka | AK94: 0
...

Sheet ZL 01 - ISO nosník
L2: >> skryté sloupce << | AT2: {3ce2f7a8-5b75-461e-88f5-bb13ec14a7cd}
AT3: 2
D4: KRYCÍ LIST SOUPISU PRACÍ | M4: v --- níže se nacházejí doplnkové a pomocné údaje k sestavám --- v | AT4: False
D6: Stavba:
E7: ='Rekapitulace stavby'!K14 -> Nástavba jednoho a rekonstrukce dvou podlaží polikliniky Kbely
D8: Objekt:
E9: ZL 01 - Doplnění hydroizolace objektu A
D11: KSO: | I11: CC-CZ:
D12: Místo: | F12: Městys Liteň Zámecký park 402 | I12: Datum: | J12: ='Rekapitulace stavby'!AN16 -> 44258
D14: Zadavatel: | I14: IČ: | J14: =IF('Rekapitulace stavby'!AN18="","",'Rekapitulace stavby'!AN18)
E15: =IF('Rekapitulace stavby'!E19="","",'Rekapitulace stavby'!E19) | I15: DIČ: | J15: =IF('Rekapitulace stavby'!AN19="","",'Rekapitulace stavby'!AN19)
D17: Zhotovitel: | I17: IČ: | J17: ='Rekapitulace stavby'!AN21
E18: ='Rekapitulace stavby'!E22 | I18: DIČ: | J18: ='Rekapitulace stavby'!AN22
D20: Projektant: | I20: IČ:
E21: Ing.Arch. Ivan Vavřík | I21: DIČ:
D23: Zpracovatel: | I23: IČ: | J23: =IF('Rekapitulace stavby'!#REF!="","",'Rekapitulace stavby'!#REF!) -> #REF!
E24: =IF('Rekapitulace stavby'!E27="","",'Rekapitulace stavby'!E27) | I24: DIČ: | J24: =IF('Rekapitulace stavby'!AN27="","",'Rekapitulace stavby'!AN27)
D26: Poznámka:
D30: Cena bez DPH | J30: =ROUND(J123, 2) -> 112420
F32: Základ daně | I32: Sazba daně | J32: Výše daně
D33: DPH | E33: základní | F33: =ROUND((SUM(BE123:BE128)), 2) -> 48840 | I33: 0.21 | J33: =ROUND(((SUM(BE123:BE128))*I33), 2) -> 10256.4
E34: snížená | F34: =ROUND((SUM(BF123:BF128)), 2) -> 0 | I34: 0.15 | J34: =ROUND(((SUM(BF123:BF128))*I34), 2) -> 0
E35: zákl. přenesená | F35: =ROUND((SUM(BG123:BG128)), 2) -> 0 | I35: 0.21 | J35: =0 -> 0
E36: sníž. přenesená | F36: =ROUND((SUM(BH123:BH128)), 2) -> 0 | I36: 0.15 | J36: =0 -> 0
E37: nulová | F37: =ROUND((SUM(BI123:BI128)), 2) -> 0 | I37: 0 | J37: =0 -> 0
D39: Cena s DPH | G39: v | H39: CZK | J39: =SUM(J30:J37) -> 122676.4
D50: Projektant | G50: Zpracovatel
D61: Datum a podpis: | F61: Razítko | G61: Datum a podpis: | J61: Razítko
D65: Objednavatel | G65: Zhotovitel
D76: Datum a podpis: | F76: Razítko | G76: Datum a podpis: | J76: Razítko
C82: REKAPITULACE ČLENĚNÍ SOUPISU PRACÍ
C84: Stavba:
E85: =E7 -> Nástavba jednoho a rekonstrukce dvou podlaží polikliniky Kbely
C87: Popis prací :
E88: ZL 01 - ISO nosníky OK kce
C90: Místo: | E90: Železnobrodská Praha 9 | I90: Datum: | J90: 44258
C92: Zadavatel: Městská část Praha 9 | I92: Projektant: | J92: ing. Slavíček
C93: Zhotovitel: ACG Real s.r.o | I93: Zpracovatel: | J93: ACG Real s.r.o
C95: Kód dílu - Popis | J95: Cena celkem [CZK]
E97: V rámci zadání položkového VV ocenění zakázky došlo k chybnému uvedení počtu požadovaných ISO nosníků u OK kce pro bezpodmínečné zajištění přerušení tepelného mostu skrze OK kci . Dle zadání 13 ks , skutečnost 28 ks - je tedy požadováno docenění 15 Ks prvků za stanovenou j.c. dle ocenění VV. Navíc byly přidány Termoizolační prvky - 22 ks.
...
