Workbook

Sheet Rekapitulace stavby
A1: Export Komplet | BA1: 2.0 | BT1: False | BU1: False | BV1: {32e88ad2-4ff3-4476-be59-d619874beaf8}
AR2: >> skryté sloupce << | BS2: 0,01 | BT2: 21
BS4: 0,01 | BT4: 15
D7: Ocenění prací a dodávek
D10: ZL 01 - ISO nosníky ocelové kce pro přerušení tepelného mostu | AS10: v --- níže se nacházejí doplnkové a pomocné údaje k sestavám --- v | BS10: 0,001
D12: Kód: | K12: ZL 01 | BS12: 0,01
D14: Stavba: | K14: Nástavba jednoho a rekonstrukce dvou podlaží polikliniky Kbely | BS14: 0,01
D15: KSO: | AK15: CC-CZ: | BS15: 0,01
D16: Místo: | K16: Železnobrodská Praha 9 Kbely | AK16: Datum: | AN16: 44258 | BS16: 0,01
BS17: 0,01
D18: Zadavatel: | K18: Městská část Praha 9 - Kbely | AK18: IČ: 70856508 | BS18: 0,01
BS19: 0,01
BS20: 0,01
D21: Zhotovitel: | K21: ACG Real s.r.o | AK21: IČ: 27094359 | BS21: 0,01
BS22: 0,01
BS23: False
D24: Projektant: | K24: ing. Slavíček | BS24: False
BS25: True
BS26: 0,01
BS27: True
D29: Popis prací : | K29: V rámci zadání položkového VV ocenění zakázky došlo k chybnému uvedení počtu požadovaných ISO nosníků u OK kce pro bezpodmínečné zajištění přerušení tepelného mostu skrze OK kci . Dle zadání 13 ks , skutečnost 28 ks - je tedy požadováno docenění 15 Ks prvků za stanovenou j.c. dle ocenění VV. Navíc byly přidány Termoizolační prvky - 22 ks. K navýšení došlo kvůli změnám v dílenské dokumentaci nosné konstrukce 3. NP a střechy. Původně tesařské konstrukce byly nahrazeny ocelovými. Zvýšený počet prvků typu Isokorb nahrazuje obalení ocelových nosníků, které přečnívají přes líc tepelné izolace fasády tepelnou izolací. Toto opatření má zabránit vzniku tepelných mostů a následně kondenzaci vody v konstrukci. Prvky Isokorb jsou dvojí velikosti. K navýšení došlo u prvků menší velikosti. Jde o upřesnění technického řešení s pohledem na provedení stavby.
D32: Cena bez DPH | AK32: =ROUND(AG98,2) -> 112420
L34: Sazba daně | W34: Základ daně | AK34: Výše daně
D35: DPH | F35: základní | L35: 0.21 | W35: =AG98 -> 112420 | AK35: =W35*21% -> 23608.2
F36: snížená | L36: 0.15 | W36: =ROUND(BA98, 2) -> 0 | AK36: =ROUND(AW98, 2) -> 0
F37: zákl. přenesená | L37: 0.21 | W37: =ROUND(BB98, 2) -> 0 | AK37: 0
F38: sníž. přenesená | L38: 0.15 | W38: =ROUND(BC98, 2) -> 0 | AK38: 0
F39: nulová | L39: 0 | W39: =ROUND(BD98, 2) -> 0 | AK39: 0
D41: Cena s DPH | T41: v | X41: CZK | AK41: =SUM(AK32:AK39) -> 136028.2
D48: Projektant | AH48: Zpracovatel
D59: Datum a podpis: | V59: Razítko | AH59: Datum a podpis: | AM59: Razítko
D63: Objednavatel | AH63: Zhotovitel
D74: Datum a podpis: | V74: Razítko | AH74: Datum a podpis: | AM74: Razítko
C84: REKAPITULACE OBJEKTŮ STAVBY A SOUPISŮ PRACÍ
C86: Kód: | L86: =K12 -> ZL 01
C87: Stavba: | L87: =K14 -> Nástavba jednoho a rekonstrukce dvou podlaží polikliniky Kbely
C89: Místo: | L89: =IF(K16="","",K16) -> Železnobrodská Praha 9 Kbely | AI89: Datum: | AM89: =AN16 -> 44258
C91: Zadavatel: | H91: Městská část Praha 9 - Kbely | AI91: Projektant: ing. Slavíček | AM91: =IF(E25="","",E25) | AS91: Informatívní údaje z listů zakázek
C92: Zhotovitel: | H92: ACG Real s.r.o | AI92: Zpracovatel: ACG Real s.r.o | AM92: =IF(E27="","",E27)
G94: Z toho přípočtová částka | U94: =AG98 -> 112420 | AE94: Z toho odpočtová částka | AK94: 0
C96: Kód | I96: Popis | AG96: Cena bez DPH [CZK] | AN96: Cena s DPH [CZK] | AQ96: Typ | AS96: z toho Ostat._x000D_ náklady [CZK] | AT96: DPH [CZK] | AU96: Normohodiny [h] | AV96: DPH základní [CZK] | AW96: DPH snížená [CZK] | AX96: DPH základní přenesená_x000D_ [CZK] | AY96: DPH snížená přenesená_x000D_ [CZK] | AZ96: Základna_x000D_ DPH základní | BA96: Základna_x000D_ DPH snížená | BB96: Základna_x000D_ DPH zákl. přenesená | BC96: Základna_x000D_ DPH sníž. přenesená | BD96: Základna_x000D_ DPH nulová
C98: Náklady z rozpočtů | AG98: =ROUND(AG99,2) -> 112420 | AN98: =AK41 -> 136028.2 | AS98: =ROUND(AS99,2) -> 0 | AT98: =ROUND(SUM(AV98:AW98),2) -> 10256.4 | AU98: =ROUND(AU99,5) -> #REF! | AV98: =ROUND(AZ98*L35,2) -> 10256.4 | AW98: =ROUND(BA98*L36,2) -> 0 | AX98: =ROUND(BB98*L35,2) -> 0 | AY98: =ROUND(BC98*L36,2) -> 0 | AZ98: =ROUND(AZ99,2) -> 48840 | BA98: =ROUND(BA99,2) -> 0 | BB98: =ROUND(BB99,2) -> 0 | BC98: =ROUND(BC99,2) -> 0 | BD98: =ROUND(BD99,2) -> 0 | BS98: D | BT98: 0 | BU98: ###NOIMPORT### | BV98: IMPORT | BW98: {32e88ad2-4ff3-4476-be59-d619874beaf8} | BX98: {00000000-0000-0000-0000-000000000000}
A99: / | D99: ZL 01 | J99: ISO nosníky OK kce - dopočet KS | AG99: ='ZL 01 - ISO nosník'!J30 -> 112420 | AQ99: STA | AS99: 0 | AT99: =ROUND(SUM(AV99:AW99),2) -> 10256.4 | AU99: ='ZL 01 - ISO nosník'!P123 -> #REF! | AV99: ='ZL 01 - ISO nosník'!J33 -> 10256.4 | AW99: ='ZL 01 - ISO nosník'!J34 -> 0 | AX99: ='ZL 01 - ISO nosník'!J35 -> 0 | AY99: ='ZL 01 - ISO nosník'!J36 -> 0 | AZ99: ='ZL 01 - ISO nosník'!F33 -> 48840 | BA99: ='ZL 01 - ISO nosník'!F34 -> 0 | BB99: ='ZL 01 - ISO nosník'!F35 -> 0 | BC99: ='ZL 01 - ISO nosník'!F36 -> 0 | BD99: ='ZL 01 - ISO nosník'!F37 -> 0 | BT99: 1 | BV99: IMPORT | BW99: {3ce2f7a8-5b75-461e-88f5-bb13ec14a7cd} | BX99: {32e88ad2-4ff3-4476-be59-d619874beaf8} | CM99: 2

Sheet ZL 01 - ISO nosník
L2: >> skryté sloupce << | AT2: {3ce2f7a8-5b75-461e-88f5-bb13ec14a7cd}
AT3: 2
D4: KRYCÍ LIST SOUPISU PRACÍ | M4: v --- níže se nacházejí doplnkové a pomocné údaje k sestavám --- v | AT4: False
D6: Stavba:
E7: ='Rekapitulace stavby'!K14 -> Nástavba jednoho a rekonstrukce dvou podlaží polikliniky Kbely
D8: Objekt:
E9: ZL 01 - Doplnění hydroizolace objektu A
D11: KSO: | I11: CC-CZ:
D12: Místo: | F12: Městys Liteň Zámecký park 402 | I12: Datum: | J12: ='Rekapitulace stavby'!AN16 -> 44258
D14: Zadavatel: | I14: IČ: | J14: =IF('Rekapitulace stavby'!AN18="","",'Rekapitulace stavby'!AN18)
E15: =IF('Rekapitulace stavby'!E19="","",'Rekapitulace stavby'!E19) | I15: DIČ: | J15: =IF('Rekapitulace stavby'!AN19="","",'Rekapitulace stavby'!AN19)
D17: Zhotovitel: | I17: IČ: | J17: ='Rekapitulace stavby'!AN21
E18: ='Rekapitulace stavby'!E22 | I18: DIČ: | J18: ='Rekapitulace stavby'!AN22
D20: Projektant: | I20: IČ:
E21: Ing.Arch. Ivan Vavřík | I21: DIČ:
D23: Zpracovatel: | I23: IČ: | J23: =IF('Rekapitulace stavby'!#REF!="","",'Rekapitulace stavby'!#REF!) -> #REF!
E24: =IF('Rekapitulace stavby'!E27="","",'Rekapitulace stavby'!E27) | I24: DIČ: | J24: =IF('Rekapitulace stavby'!AN27="","",'Rekapitulace stavby'!AN27)
D26: Poznámka:
D30: Cena bez DPH | J30: =ROUND(J123, 2) -> 112420
F32: Základ daně | I32: Sazba daně | J32: Výše daně
D33: DPH | E33: základní | F33: =ROUND((SUM(BE123:BE128)), 2) -> 48840 | I33: 0.21 | J33: =ROUND(((SUM(BE123:BE128))*I33), 2) -> 10256.4
E34: snížená | F34: =ROUND((SUM(BF123:BF128)), 2) -> 0 | I34: 0.15 | J34: =ROUND(((SUM(BF123:BF128))*I34), 2) -> 0
E35: zákl. přenesená | F35: =ROUND((SUM(BG123:BG128)), 2) -> 0 | I35: 0.21 | J35: =0 -> 0
E36: sníž. přenesená | F36: =ROUND((SUM(BH123:BH128)), 2) -> 0 | I36: 0.15 | J36: =0 -> 0
E37: nulová | F37: =ROUND((SUM(BI123:BI128)), 2) -> 0 | I37: 0 | J37: =0 -> 0
D39: Cena s DPH | G39: v | H39: CZK | J39: =SUM(J30:J37) -> 122676.4
D50: Projektant | G50: Zpracovatel
D61: Datum a podpis: | F61: Razítko | G61: Datum a podpis: | J61: Razítko
D65: Objednavatel | G65: Zhotovitel
D76: Datum a podpis: | F76: Razítko | G76: Datum a podpis: | J76: Razítko
C82: REKAPITULACE ČLENĚNÍ SOUPISU PRACÍ
C84: Stavba:
E85: =E7 -> Nástavba jednoho a rekonstrukce dvou podlaží polikliniky Kbely
C87: Popis prací :
E88: ZL 01 - ISO nosníky OK kce
C90: Místo: | E90: Železnobrodská Praha 9 | I90: Datum: | J90: 44258
C92: Zadavatel: Městská část Praha 9 | I92: Projektant: | J92: ing. Slavíček
C93: Zhotovitel: ACG Real s.r.o | I93: Zpracovatel: | J93: ACG Real s.r.o
C95: Kód dílu - Popis | J95: Cena celkem [CZK]
E97: V rámci zadání položkového VV ocenění zakázky došlo k chybnému uvedení počtu požadovaných ISO nosníků u OK kce pro bezpodmínečné zajištění přerušení tepelného mostu skrze OK kci . Dle zadání 13 ks , skutečnost 28 ks - je tedy požadováno docenění 15 Ks prvků za stanovenou j.c. dle ocenění VV. Navíc byly přidány Termoizolační prvky - 22 ks.
C100: Náklady ze soupisu prací | J100: =J101 -> 112420 | AU100: -1
E101: HSV | F101: Práce a dodávky HSV | J101: =J124 -> 112420
C110: SOUPIS OCENĚNÍ PRACÍ
C112: Stavba:
E113: =E7 -> Nástavba jednoho a rekonstrukce dvou podlaží polikliniky Kbely
C114: Objekt:
E115: ZL 01 - ISO nosníky OK kce
C117: Místo: | F117: Železnobrodská - Praha 9 | I117: Datum: | J117: =J90 -> 44258
C119: Zadavatel: Městská část Praha 9 - Kbely | I119: Projektant: | J119: ing. Slavíček
C120: Zhotovitel: ACG Real .s.ro | I120: Zpracovatel: | J120: ACG Real. s.r.o
C122: PČ | D122: Typ | E122: Kód | F122: Popis | G122: MJ | H122: Množství | I122: J.cena [CZK] | J122: Cena celkem [CZK] | K122: Cenová soustava | N122: DPH | O122: J. Nh [h] | P122: Nh celkem [h] | Q122: J. hmotnost [t] | R122: Hmotnost celkem [t] | S122: J. suť [t] | T122: Suť Celkem [t]
C123: Náklady soupisu celkem | J123: =J124 -> 112420 | P123: =P124+#REF! -> #REF! | R123: =R124+#REF! -> #REF! | T123: =T124+#REF! -> #REF! | AT123: D | AU123: -1 | BK123: =BK124+#REF! -> #REF!
D124: D | E124: HSV | F124: Práce a dodávky HSV | J124: =J125 -> 112420 | P124: =P125 -> 6.45 | R124: =R125 -> 0.7302 | T124: =T125 -> 0 | AR124: 1 | AT124: D | AU124: 0 | AY124: ROZPOCET | BK124: =BK125 -> 48840
D125: D | E125: 9 | F125: Ostatní konstrukce a práce, bourání | J125: =SUM(J127:J130) -> 112420 | P125: =SUM(P127:P127) -> 6.45 | R125: =SUM(R127:R127) -> 0.7302 | T125: =SUM(T127:T127) -> 0 | AR125: 1 | AT125: D | AU125: 1 | AY125: ROZPOCET | BK125: =SUM(BK127:BK127) -> 48840
C127: 336 | D127: K | E127: 953511R | F127: Nosný tepelně-izolační prvek 3.np / D+M / | G127: kus | H127: 15 | I127: 3256 | J127: =ROUND(I127*H127,2) -> 48840 | N127: základní | O127: 0.43 | P127: =O127*H127 -> 6.45 | Q127: 0.04868 | R127: =Q127*H127 -> 0.7302 | S127: 0 | T127: =S127*H127 -> 0 | AR127: 4 | AT127: K | AU127: 2 | AY127: ROZPOCET | BE127: =IF(N127="základní",J127,0) -> 48840 | BF127: =IF(N127="snížená",J127,0) -> 0 | BG127: =IF(N127="zákl. přenesená",J127,0) -> 0 | BH127: =IF(N127="sníž. přenesená",J127,0) -> 0 | BI127: =IF(N127="nulová",J127,0) -> 0 | BJ127: 1 | BK127: =ROUND(I127*H127,2) -> 48840 | BL127: 4 | BM127: 1040418086
F128: Isokorby KST … 28 ks (Isokorb KSTZ22 … 14 ks + Isokorb KSTQ22 … 14 ks) | I128: j.c odpovídá smluvnímu ocenění
F129: 28-13 | H129: 15
C130: 1 | D130: K | E130: 95351R | F130: Nově přidané profily: Termoizolační prvek S4000/1 | G130: kus | H130: 22 | I130: 2890 | J130: =ROUND(I130*H130,2) -> 63580
F131: - z vysokopevnostního plastu S4000 - tl. materiálu 15 mm | I131: j.c odpovídá smluvnímu ocenění
F132: (každý kus: rozměr 150x110 mm + 4x závitová tyč průměr 16 mm - rozteč děr 60*80 mm) viz výkres v příloze
F134: Termoizolační vysokopevnostní prvky S4000 mají o cca 50% lepší koeficient prostupu tepla … U=8,41 W/m2.K, než zmiňované Isokorby (16,2 resp. 18,1 W/m2.K) – viz výpočet a TL v příloze.
